BEGIN:VCALENDAR
VERSION:2.0
PRODID:-//Himmelsthür - ECPv6.15.20//NONSGML v1.0//EN
CALSCALE:GREGORIAN
METHOD:PUBLISH
X-WR-CALNAME:Himmelsthür
X-ORIGINAL-URL:https://hi-himmelsthuer.de
X-WR-CALDESC:Veranstaltungen für Himmelsthür
REFRESH-INTERVAL;VALUE=DURATION:PT1H
X-Robots-Tag:noindex
X-PUBLISHED-TTL:PT1H
BEGIN:VTIMEZONE
TZID:Europe/Berlin
BEGIN:DAYLIGHT
TZOFFSETFROM:+0100
TZOFFSETTO:+0200
TZNAME:CEST
DTSTART:20250330T010000
END:DAYLIGHT
BEGIN:STANDARD
TZOFFSETFROM:+0200
TZOFFSETTO:+0100
TZNAME:CET
DTSTART:20251026T010000
END:STANDARD
BEGIN:DAYLIGHT
TZOFFSETFROM:+0100
TZOFFSETTO:+0200
TZNAME:CEST
DTSTART:20260329T010000
END:DAYLIGHT
BEGIN:STANDARD
TZOFFSETFROM:+0200
TZOFFSETTO:+0100
TZNAME:CET
DTSTART:20261025T010000
END:STANDARD
BEGIN:DAYLIGHT
TZOFFSETFROM:+0100
TZOFFSETTO:+0200
TZNAME:CEST
DTSTART:20270328T010000
END:DAYLIGHT
BEGIN:STANDARD
TZOFFSETFROM:+0200
TZOFFSETTO:+0100
TZNAME:CET
DTSTART:20271031T010000
END:STANDARD
END:VTIMEZONE
BEGIN:VEVENT
DTSTART;VALUE=DATE:20260424
DTEND;VALUE=DATE:20260427
DTSTAMP:20260424T224110
CREATED:20260319T190248Z
LAST-MODIFIED:20260319T190248Z
UID:3085-1776988800-1777247999@hi-himmelsthuer.de
SUMMARY:Schnecken entdecken - Workshop des OVH
DESCRIPTION:Die AG Schnecken des Ornithologischen Vereins Hildesheim (OVH) bietet einen dreitägigen Workshop an. Von Freitag\, 24. April bis Sonntag\, 26.April 2026 erwartet alle Interessierten ein umfassendes Programm: Es beginnt am Freitag im Schulbiologie-Zentrum Hildesheim mit der Einführung in die Bestimmung von Schnecken\, Referent ist der Gastropoden-Experte Dr. Gerd Nottbohm. Am Samstag schließt sich eine Tagesexkursion in das Naturschutzgebiet Osterberg Lange Dreisch zwischen Himmelsthür und Giesen an. Hier ist eine Kartierung vorgefundener Land- und Wasserschnecken geplant. Eine zweite Exkursion führt am Sonntag in das Landschaftsschutzgebiet Finkenberg/Lerchenberg zwischen Hildesheim und Sorsum oder ins Leinebergland bzw. die Siebenberge bei Alfeld statt. Vorkenntnisse sind für den Workshop nicht erforderlich. Die Teilnahme-Gebühr beträgt 50 €\, sie deckt vor allem die Verpflegung während der Veranstaltung ab. \nInteressierte melden sich bitte bis zum 24.03.2026 unter schnecken@ovh-online.de\, hier erhalten Sie von Wolfgang Pahl\, dem Leiter der AG Schnecken des OVH auch weitere Informationen
URL:https://hi-himmelsthuer.de/event/schnecken-entdecken-workshop-des-ovh/
ATTACH;FMTTYPE=image/png:https://hi-himmelsthuer.de/wp-content/uploads/2024/03/OVH-1.png
END:VEVENT
BEGIN:VEVENT
DTSTART;TZID=Europe/Berlin:20260424T160000
DTEND;TZID=Europe/Berlin:20260424T190000
DTSTAMP:20260424T224110
CREATED:20260315T130843Z
LAST-MODIFIED:20260315T131103Z
UID:2959-1777046400-1777057200@hi-himmelsthuer.de
SUMMARY:Himmelsthür für alle - Sozialraumkonferenz
DESCRIPTION:Wir wollen Himmelsthür zugänglich für ALLE machen. Gestalte auch DU mit!\nKomm gerne zum Mitdenken und Ideen finden. \nUnter dem Motto „Himmelsthür für alle!“ veranstalten wir – Inklusive Strukturen Himmelsthür* – eine Sozialraumkonferenz mit fünf  spannenden Workshops rund um Leben\, Kultur\, Sport\, Ehrenamt\, Begegnungen… \nZum Abschluss sprechen wir über die Ergebnisse und essen gemeinsam eine Kleinigkeit. \nEs gibt eine Verdolmetschung in DSG. Bitte melde dich dafür bis zum 10.04.2026 unter inklusion@stadt-hildesheim.de an. \n* Inklusive Strukturen Himmelsthür ist Initiative aus: Eingliederungshilfe Caritas-Wohnen Hildesheim\, Diakonie Himmelsthür e.V.\, Diakonische Wohnheime Himmelsthür gGmbH\, Paulusgemeinde Himmelsthür und Stadt Hildesheim. Die Veranstaltung wird zudem durch das Bundesministerium für Bildung\, Familie\, Senioren\, Frauen und Jugend gefördert. \nVeranstaltungsort\nPauluskirche und Treffpunkt Mensch in Himmelsthür \n \n 
URL:https://hi-himmelsthuer.de/event/himmelsthuer-fuer-alle/
LOCATION:Pauluskirche – Gemeindesaal\, Winkelstr. 15
ATTACH;FMTTYPE=image/png:https://hi-himmelsthuer.de/wp-content/uploads/2026/03/InklusiveStrukturenHimmelsthuer_360.png
END:VEVENT
END:VCALENDAR